BEGIN:VCALENDAR
PRODID:-//github.com/rianjs/ical.net//NONSGML ical.net 4.0//EN
VERSION:2.0
BEGIN:VEVENT
DTEND;VALUE=DATE:20261113
DTSTAMP:20260420T012622Z
DTSTART;VALUE=DATE:20261112
SEQUENCE:0
SUMMARY:Trading Update
UID:42e09dad-a056-41a4-8e68-941ec322cef1
END:VEVENT
END:VCALENDAR
